Workbook

Sheet Сводка
A1: Сколько часов в неделю агент снимает с маркетолога, бухгалтера и ассистента
A2: Модель по обязанностям из открытых вакансий hh.ru на 16.10.2026 (вакансии и ссылки - лист «Вакансии со ссылками», допущения - лист «Допущения»). Это оценка, а не замер.
A4: Роль | B4: Вакансий в выборке | C4: Пунктов обязанностей | D4: Целиком, пунктов | E4: Частично, пунктов | F4: Не делает, пунктов | G4: Доля «целиком» | H4: Доля «частично» | I4: Доля «не делает» | J4: Часов в неделю: осторожно | K4: Часов в неделю: вероятно | L4: Часов в неделю: максимум | M4: Медиана оклада, ₽/мес до вычета | N4: Вакансий с окладом | O4: Стоимость снятых часов, ₽/мес (вероятно) | P4: Во сколько раз больше цены агента
A5: Маркетолог | B5: =COUNTIF('Вакансии со ссылками'!$B$2:$B$128,A5) -> 45 | C5: =SUMIF('Вакансии со ссылками'!$B$2:$B$128,A5,'Вакансии со ссылками'!$J$2:$J$128) -> 489 | D5: =SUMIF('Вакансии со ссылками'!$B$2:$B$128,A5,'Вакансии со ссылками'!$K$2:$K$128) -> 191 | E5: =SUMIF('Вакансии со ссылками'!$B$2:$B$128,A5,'Вакансии со ссылками'!$L$2:$L$128) -> 126 | F5: =SUMIF('Вакансии со ссылками'!$B$2:$B$128,A5,'Вакансии со ссылками'!$M$2:$M$128) -> 172 | G5: =D5/C5 -> 0.39059305 | H5: =E5/C5 -> 0.25766871 | I5: =F5/C5 -> 0.35173824 | J5: =Допущения!$B$3*AVERAGEIF('Вакансии со ссылками'!$B$2:$B$128,A5,'Вакансии со ссылками'!$N$2:$N$128) -> 10.16716 | K5: =Допущения!$B$3*AVERAGEIF('Вакансии со ссылками'!$B$2:$B$128,A5,'Вакансии со ссылками'!$O$2:$O$128) -> 15.24941 | L5: =Допущения!$B$3*AVERAGEIF('Вакансии со ссылками'!$B$2:$B$128,A5,'Вакансии со ссылками'!$P$2:$P$128) -> 20.895762 | M5: =MEDIAN('Вакансии со ссылками'!$H$2:$H$46) -> 114943 | N5: =COUNT('Вакансии со ссылками'!$H$2:$H$46) -> 36 | O5: =M5*K5/Допущения!$B$3 -> 43820.322 | P5: =O5/Допущения!$B$4 -> 2.9233037
A6: Бухгалтер | B6: =COUNTIF('Вакансии со ссылками'!$B$2:$B$128,A6) -> 45 | C6: =SUMIF('Вакансии со ссылками'!$B$2:$B$128,A6,'Вакансии со ссылками'!$J$2:$J$128) -> 435 | D6: =SUMIF('Вакансии со ссылками'!$B$2:$B$128,A6,'Вакансии со ссылками'!$K$2:$K$128) -> 115 | E6: =SUMIF('Вакансии со ссылками'!$B$2:$B$128,A6,'Вакансии со ссылками'!$L$2:$L$128) -> 230 | F6: =SUMIF('Вакансии со ссылками'!$B$2:$B$128,A6,'Вакансии со ссылками'!$M$2:$M$128) -> 90 | G6: =D6/C6 -> 0.26436782 | H6: =E6/C6 -> 0.52873563 | I6: =F6/C6 -> 0.20689655 | J6: =Допущения!$B$3*AVERAGEIF('Вакансии со ссылками'!$B$2:$B$128,A6,'Вакансии со ссылками'!$N$2:$N$128) -> 9.013545 | K6: =Допущения!$B$3*AVERAGEIF('Вакансии со ссылками'!$B$2:$B$128,A6,'Вакансии со ссылками'!$O$2:$O$128) -> 14.563595 | L6: =Допущения!$B$3*AVERAGEIF('Вакансии со ссылками'!$B$2:$B$128,A6,'Вакансии со ссылками'!$P$2:$P$128) -> 21.193996 | M6: =MEDIAN('Вакансии со ссылками'!$H$47:$H$91) -> 98850.5 | N6: =COUNT('Вакансии со ссылками'!$H$47:$H$91) -> 36 | O6: =M6*K6/Допущения!$B$3 -> 35990.466 | P6: =O6/Допущения!$B$4 -> 2.400965
A7: Ассистент руководителя | B7: =COUNTIF('Вакансии со ссылками'!$B$2:$B$128,A7) -> 37 | C7: =SUMIF('Вакансии со ссылками'!$B$2:$B$128,A7,'Вакансии со ссылками'!$J$2:$J$128) -> 482 | D7: =SUMIF('Вакансии со ссылками'!$B$2:$B$128,A7,'Вакансии со ссылками'!$K$2:$K$128) -> 118 | E7: =SUMIF('Вакансии со ссылками'!$B$2:$B$128,A7,'Вакансии со ссылками'!$L$2:$L$128) -> 87 | F7: =SUMIF('Вакансии со ссылками'!$B$2:$B$128,A7,'Вакансии со ссылками'!$M$2:$M$128) -> 277 | G7: =D7/C7 -> 0.24481328 | H7: =E7/C7 -> 0.18049793 | I7: =F7/C7 -> 0.5746888 | J7: =Допущения!$B$3*AVERAGEIF('Вакансии со ссылками'!$B$2:$B$128,A7,'Вакансии со ссылками'!$N$2:$N$128) -> 6.0660405 | K7: =Допущения!$B$3*AVERAGEIF('Вакансии со ссылками'!$B$2:$B$128,A7,'Вакансии со ссылками'!$O$2:$O$128) -> 9.1524743 | L7: =Допущения!$B$3*AVERAGEIF('Вакансии со ссылками'!$B$2:$B$128,A7,'Вакансии со ссылками'!$P$2:$P$128) -> 12.605585 | M7: =MEDIAN('Вакансии со ссылками'!$H$92:$H$128) -> 149425 | N7: =COUNT('Вакансии со ссылками'!$H$92:$H$128) -> 19 | O7: =M7*K7/Допущения!$B$3 -> 34190.212 | P7: =O7/Допущения!$B$4 -> 2.280868
A8: Среднее по трём ролям | J8: =AVERAGE(J5:J7) -> 8.4155819 | K8: =AVERAGE(K5:K7) -> 12.988493 | L8: =AVERAGE(L5:L7) -> 18.231781
A10: Источники
A11: Вакансии: открытая выдача hh.ru (https://hh.ru/search/vacancy), карточки вакансий по ссылкам на листе «Вакансии со ссылками», проверено 16.10.2026.
A12: Возможности и цена агента: https://vibemarketolog.ru/app, проверено 16.10.2026 (цена «от 14 990 ₽ в месяц»).
A13: Чтение: «вероятно» - основной вариант; «осторожно» и «максимум» - границы по допущениям. Доверительный интервал по выборке для «вероятно» - в сообщении агента и на графике.

Sheet Обязанности
A1: Роль | B1: Категория обязанности | C1: Что делает агент | D1: Пунктов | E1: Вакансий с таким пунктом | F1: Доля вакансий | G1: Что на странице /app | H1: Пример формулировки из вакансии
A2: Маркетолог | B2: Контент: тексты, посты, контент-план, соцсети, рассылки, репутация | C2: целиком | D2: 68 | E2: 29 | F2: 0.64444444 | G2: Соцсети: план публикаций, тексты голосом бренда, обложки; публикует во ВК, Telegram, Дзене, отвечает на комментарии | H2: Ведение и развитие групп в социальных сетях,написание и публикация контента
A3: Маркетолог | B3: Реклама: настройка и ведение кампаний (Директ, VK, таргет, контекст) | C3: целиком | D3: 51 | E3: 28 | F3: 0.62222222 | G3: Реклама и трафик: кампании в Директе и VK Рекламе, минус-слова, ставки, объявления | H3: Анализ конкурентной среды: мониторинг цен, ассортимента, рекламной активности конкурентов в строительном секторе
A4: Маркетолог | B4: Стратегия, планы, бюджеты, позиционирование, бренд | C4: частично | D4: 47 | E4: 28 | F4: 0.62222222 | G4: Подготовка черновика и расчётов; решение остаётся за человеком | H4: Коммуникация со всеми подразделениями в целях получения и предоставления информации для целей маркетинга
A5: Маркетолог | B5: Мероприятия, выставки, съёмки, офлайн-активности | C5: не делает | D5: 45 | E5: 22 | F5: 0.48888889 | G5: Физическое присутствие агенту недоступно | H5: Разработка и реализация плана маркетинговых мероприятий для продвижения продукции
A6: Маркетолог | B6: Отчёты, сводки и аналитика (метрики, воронка, эффективность) | C6: целиком | D6: 29 | E6: 22 | F6: 0.48888889 | G6: Аналитика и отчёты: отчёты по рекламе и продажам, сводки по менеджерам и воронке | H6: анализировать стоимость заявки и качество заявок
A7: Маркетолог | B7: Анализ рынка и конкурентов, мониторинг цен | C7: целиком | D7: 24 | E7: 21 | F7: 0.46666667 | G7: Конкуренты и рынок: цены и предложения конкурентов, обзор рынка | H7: Выявление и анализ потребностей целевой аудитории (строительные компании, частные застройщики, дизайнеры)
A8: Маркетолог | B8: Переговоры, звонки, встречи и работа с людьми вживую | C8: не делает | D8: 33 | E8: 20 | F8: 0.44444444 | G8: Агент работает на компьютере: звонки и встречи за человека не проводит | H8: сколько заявок дошло до отдела продаж
A9: Маркетолог | B9: Прочее и не распознано | C9: не делает | D9: 55 | E9: 17 | F9: 0.37777778 | G9: Не засчитываем: осторожная оценка | H9: сколько целевых клиентов увидели компанию
A10: Маркетолог | B10: Сайт и SEO: наполнение, правки, посадочные страницы, карточки | C10: частично | D10: 16 | E10: 16 | F10: 0.35555556 | G10: SEO и сайты: готовит сайт к поиску, чинит формы и разметку; Сайты и посадочные в Space | H10: работать с сайтом, посадочными страницами, карточками услуг и формами заявок
A11: Маркетолог | B11: Креативы, дизайн, видео, фото | C11: частично | D11: 17 | E11: 13 | F11: 0.28888889 | G11: Реклама и трафик: креативы; Соцсети: обложки (финальную подачу утверждает человек) | H11: Взаимодействие с дизайнером (составление тех. заданий)
A12: Маркетолог | B12: Офис и быт: канцелярия, хозяйство, гости, курьеры, ресепшн | C12: не делает | D12: 32 | E12: 11 | F12: 0.24444444 | G12: Физическое присутствие агенту недоступно | H12: 1. Кофе, чай и ингредиенты для бизнеса
A13: Маркетолог | B13: Налоги и отчётность (НДС, УСН, НДФЛ, баланс, сдача в ФНС и фонды) | C13: частично | D13: 11 | E13: 10 | F13: 0.22222222 | G13: Финансист: налоговый календарь, подготовка; сдачу и подпись делает человек | H13: Аналитика и отчётность. По каждому тесту – подробный отчёт
... A22: Маркетолог | B22: Календарь, график, организация встреч и совещаний | C22: целиком | D22: 5 | E22: 3 | F22: 0.066666667 | G22: Личный помощник: почта, календарь, напоминания | H22: формировать маркетинговый календарь сети
A23: Маркетолог | B23: Зарплата, кадры, отпуска, больничные, табель | C23: частично | D23: 2 | E23: 2 | F23: 0.044444444 | G23: Финансист и бухгалтер-помощник (расчёт готовит, проверяет человек)
A24: Маркетолог | B24: Подбор персонала: вакансии, отклики, приглашения | C24: частично | D24: 2 | E24: 2 | F24: 0.044444444 | G24: Подбор людей: разбирает отклики, оценивает тестовые, приглашает лучших (решение за человеком) | H24: Успехов и до встречи на собеседовании!
A25: Маркетолог | B25: Ввод и обработка данных: таблицы, базы, выгрузки, актуализация | C25: целиком | D25: 3 | E25: 2 | F25: 0.044444444 | G25: Работа в браузере: заполняет формы и собирает данные в таблицы; Google Таблицы | H25: Внесение предложений по процессам и автоматизации
A26: Маркетолог | B26: Первичные документы, счета, акты, накладные, УПД | C26: целиком | D26: 1 | E26: 1 | F26: 0.022222222 | G26: Финансист и бухгалтер-помощник: первичка и счета через 1С; Счета и акты в 1С | H26: Оформление первичной документации с подрядчиками (акты, договоры, счета)
A27: Маркетолог | B27: Управление командой, обучение, мотивация, подчинённые | C27: не делает | D27: 1 | E27: 1 | F27: 0.022222222 | G27: Руководство людьми остаётся за человеком | H27: Твоя материальная мотивация будет расти вместе с твоим опытом
A28: Маркетолог | B28: Управленческий учёт, бюджет, финансовый анализ | C28: частично | D28: 1 | E28: 1 | F28: 0.022222222 | G28: Финансист: расчёты и сводки; решение принимает человек | H28: вести маркетинговый бюджет и план-факт расходов
A29: Маркетолог | B29: Поиск и сбор информации, подбор поставщиков и площадок | C29: целиком | D29: 2 | E29: 1 | F29: 0.022222222 | G29: Поиск и браузер: собирает данные в таблицы; Конкуренты и рынок: поиск поставщиков | H29: Сбор фактуры по реализованным проектам, подготовка и выпуск клиентских кейсов
A30: Бухгалтер | B30: Первичные документы, счета, акты, накладные, УПД | C30: целиком | D30: 55 | E30: 36 | F30: 0.8 | G30: Финансист и бухгалтер-помощник: первичка и счета через 1С; Счета и акты в 1С | H30: Прием, проверка и обработка первичной документации по ТМЦ (накладные, акты, счета-фактуры и др.)
A31: Бухгалтер | B31: Налоги и отчётность (НДС, УСН, НДФЛ, баланс, сдача в ФНС и фонды) | C31: частично | D31: 90 | E31: 33 | F31: 0.73333333 | G31: Финансист: налоговый календарь, подготовка; сдачу и подпись делает человек | H31: Учет затрат по незавершенному строительству, формирование отчетности по объектам строительства
A32: Бухгалтер | B32: Склад, ТМЦ, основные средства, себестоимость | C32: частично | D32: 48 | E32: 26 | F32: 0.57777778 | G32: Финансист: учёт по данным; физическую инвентаризацию выполняет человек | H32: Ведение складского учета в 1С: Бухгалтерия, отражение операций по движению ТМЦ в учетной системе
A33: Бухгалтер | B33: Бухгалтерский учёт и проводки в 1С | C33: частично | D33: 45 | E33: 23 | F33: 0.51111111 | G33: Финансы и счета: счета и акты в 1С (проводки проверяет человек) | H33: Учет операций по договорам лизинга
A34: Бухгалтер | B34: Сверки и контроль задолженности (акты сверки, дебиторка) | C34: целиком | D34: 25 | E34: 21 | F34: 0.46666667 | G34: Финансы и счета: контроль долгов клиентов | H34: Проведение инвентаризаций, участие в сверках остатков с материально ответственными лицами
A35: Бухгалтер | B35: Зарплата, кадры, отпуска, больничные, табель | C35: частично | D35: 22 | E35: 21 | F35: 0.46666667 | G35: Финансист и бухгалтер-помощник (расчёт готовит, проверяет человек) | H35: Замещение кассиров в период их отсутствия (отпуск, б/л) , а именно:
... A49: Бухгалтер | B49: Поиск и сбор информации, подбор поставщиков и площадок | C49: целиком | D49: 1 | E49: 1 | F49: 0.022222222 | G49: Поиск и браузер: собирает данные в таблицы; Конкуренты и рынок: поиск поставщиков | H49: Организация и ведение делопроизводства: сбор, систематизация, хранение бумажных и электронных документов
A50: Бухгалтер | B50: Стратегия, планы, бюджеты, позиционирование, бренд | C50: частично | D50: 1 | E50: 1 | F50: 0.022222222 | G50: Подготовка черновика и расчётов; решение остаётся за человеком
A51: Бухгалтер | B51: Мероприятия, выставки, съёмки, офлайн-активности | C51: не делает | D51: 1 | E51: 1 | F51: 0.022222222 | G51: Физическое присутствие агенту недоступно | H51: участие в мероприятиях по инвентаризации имущества и финансового состояния предприятия
A52: Бухгалтер | B52: Анализ рынка и конкурентов, мониторинг цен | C52: целиком | D52: 1 | E52: 1 | F52: 0.022222222 | G52: Конкуренты и рынок: цены и предложения конкурентов, обзор рынка | H52: Мониторинг закупочных цен и объёмов
A53: Бухгалтер | B53: Командировки, билеты, отели, визы, бронирование | C53: частично | D53: 1 | E53: 1 | F53: 0.022222222 | G53: Поиск и браузер: подбор вариантов; оплату и подтверждение делает человек | H53: Поступление билетов/денежных документов
A54: Бухгалтер | B54: Подбор персонала: вакансии, отклики, приглашения | C54: частично | D54: 1 | E54: 1 | F54: 0.022222222 | G54: Подбор людей: разбирает отклики, оценивает тестовые, приглашает лучших (решение за человеком)
A55: Ассистент руководителя | B55: Офис и быт: канцелярия, хозяйство, гости, курьеры, ресепшн | C55: не делает | D55: 113 | E55: 35 | F55: 0.94594595 | G55: Физическое присутствие агенту недоступно | H55: Организация и планирование рабочего дня руководителя
A56: Ассистент руководителя | B56: Командировки, билеты, отели, визы, бронирование | C56: частично | D56: 30 | E56: 24 | F56: 0.64864865 | G56: Поиск и браузер: подбор вариантов; оплату и подтверждение делает человек | H56: Готовность к командировкам и мобильность
A57: Ассистент руководителя | B57: Прочее и не распознано | C57: не делает | D57: 90 | E57: 22 | F57: 0.59459459 | G57: Не засчитываем: осторожная оценка | H57: Аккуратность, опрятность, умение работать с конфиденциальной информацией
A58: Ассистент руководителя | B58: Взаимодействие и согласование с подразделениями, руководством, клиентами | C58: не делает | D58: 35 | E58: 21 | F58: 0.56756757 | G58: Живое общение и согласование остаются за человеком | H58: Собирать информацию у сотрудников и контролировать прохождение опросов и оценок
A59: Ассистент руководителя | B59: Календарь, график, организация встреч и совещаний | C59: целиком | D59: 37 | E59: 21 | F59: 0.56756757 | G59: Личный помощник: почта, календарь, напоминания | H59: Вести календарь руководителя, предупреждать конфликты и накладки
A60: Ассистент руководителя | B60: Мероприятия, выставки, съёмки, офлайн-активности | C60: не делает | D60: 23 | E60: 18 | F60: 0.48648649 | G60: Физическое присутствие агенту недоступно | H60: фото- и видеосъёмка (в т.ч. с квадрокоптера)
A61: Ассистент руководителя | B61: Контроль сроков и исполнения поручений, напоминания | C61: целиком | D61: 16 | E61: 13 | F61: 0.35135135 | G61: Задачи по расписанию: напоминания о сроках; Текущая работа: что обещано и к какому сроку | H61: Контроль исполнения поручений и напоминание о важных задачах
...

Sheet Вакансии со ссылками
A1: № | B1: Роль | C1: Должность | D1: Регион | E1: Оклад от, ₽ | F1: Оклад до, ₽ | G1: Как указан | H1: Оклад для расчёта, ₽/мес до вычета | I1: Ссылка на вакансию | J1: Пунктов | K1: Целиком | L1: Частично | M1: Не делает | N1: Доля: осторожно | O1: Доля: вероятно | P1: Доля: максимум
A2: 1 | B2: Маркетолог | C2: Маркетолог / Специалист по маркетингу | D2: Курган | E2: 90000 | G2: на руки | H2: 103448 | I2: https://hh.ru/vacancy/138406767 | J2: 12 | K2: 7 | L2: 1 | M2: 4 | N2: =IF(J2=0,"",(K2*Допущения!$B$9+L2*Допущения!$C$9)/J2) -> 0.30416667 | O2: =IF(J2=0,"",(K2*Допущения!$B$10+L2*Допущения!$C$10)/J2) -> 0.43333333 | P2: =IF(J2=0,"",(K2*Допущения!$B$11+L2*Допущения!$C$11)/J2) -> 0.56666667
A3: 2 | B3: Маркетолог | C3: Маркетолог | D3: Миасс | E3: 90000 | F3: 90000 | G3: на руки | H3: 103448 | I3: https://hh.ru/vacancy/138383040 | J3: 4 | K3: 0 | L3: 3 | M3: 1 | N3: =IF(J3=0,"",(K3*Допущения!$B$9+L3*Допущения!$C$9)/J3) -> 0.1125 | O3: =IF(J3=0,"",(K3*Допущения!$B$10+L3*Допущения!$C$10)/J3) -> 0.225 | P3: =IF(J3=0,"",(K3*Допущения!$B$11+L3*Допущения!$C$11)/J3) -> 0.375
A4: 3 | B4: Маркетолог | C4: Маркетолог / интернет-маркетолог в Makala | D4: Магнитогорск | E4: 70000 | F4: 120000 | G4: на руки | H4: 109195 | I4: https://hh.ru/vacancy/138475909 | J4: 42 | K4: 6 | L4: 6 | M4: 30 | N4: =IF(J4=0,"",(K4*Допущения!$B$9+L4*Допущения!$C$9)/J4) -> 0.092857143 | O4: =IF(J4=0,"",(K4*Допущения!$B$10+L4*Допущения!$C$10)/J4) -> 0.14285714 | P4: =IF(J4=0,"",(K4*Допущения!$B$11+L4*Допущения!$C$11)/J4) -> 0.2
A5: 4 | B5: Маркетолог | C5: Маркетолог-стажер (с фокусом на эксперименты) | D5: Красноярск | E5: 50000 | G5: на руки | H5: 57471 | I5: https://hh.ru/vacancy/135814912 | J5: 4 | K5: 0 | L5: 2 | M5: 2 | N5: =IF(J5=0,"",(K5*Допущения!$B$9+L5*Допущения!$C$9)/J5) -> 0.075 | O5: =IF(J5=0,"",(K5*Допущения!$B$10+L5*Допущения!$C$10)/J5) -> 0.15 | P5: =IF(J5=0,"",(K5*Допущения!$B$11+L5*Допущения!$C$11)/J5) -> 0.25
A6: 5 | B6: Маркетолог | C6: Маркетолог | D6: Хабаровск | E6: 100000 | G6: на руки | H6: 114943 | I6: https://hh.ru/vacancy/138288307 | J6: 7 | K6: 1 | L6: 4 | M6: 2 | N6: =IF(J6=0,"",(K6*Допущения!$B$9+L6*Допущения!$C$9)/J6) -> 0.15714286 | O6: =IF(J6=0,"",(K6*Допущения!$B$10+L6*Допущения!$C$10)/J6) -> 0.27142857 | P6: =IF(J6=0,"",(K6*Допущения!$B$11+L6*Допущения!$C$11)/J6) -> 0.41428571
A7: 6 | B7: Маркетолог | C7: Маркетолог | D7: Иркутск | E7: 70000 | G7: до вычета налога | H7: 70000 | I7: https://hh.ru/vacancy/138535327 | J7: 11 | K7: 5 | L7: 4 | M7: 2 | N7: =IF(J7=0,"",(K7*Допущения!$B$9+L7*Допущения!$C$9)/J7) -> 0.28181818 | O7: =IF(J7=0,"",(K7*Допущения!$B$10+L7*Допущения!$C$10)/J7) -> 0.42727273 | P7: =IF(J7=0,"",(K7*Допущения!$B$11+L7*Допущения!$C$11)/J7) -> 0.59090909
A8: 7 | B8: Маркетолог | C8: Маркетолог, контент менеджер, специалист по товарному контенту | D8: Москва | E8: 120000 | F8: 120000 | G8: на руки | H8: 137931 | I8: https://hh.ru/vacancy/137985970 | J8: 10 | K8: 3 | L8: 4 | M8: 3 | N8: =IF(J8=0,"",(K8*Допущения!$B$9+L8*Допущения!$C$9)/J8) -> 0.21 | O8: =IF(J8=0,"",(K8*Допущения!$B$10+L8*Допущения!$C$10)/J8) -> 0.33 | P8: =IF(J8=0,"",(K8*Допущения!$B$11+L8*Допущения!$C$11)/J8) -> 0.47
A9: 8 | B9: Маркетолог | C9: Маркетолог | D9: Барнаул | E9: 70000 | F9: 70000 | G9: на руки | H9: 80460 | I9: https://hh.ru/vacancy/138535254 | J9: 14 | K9: 3 | L9: 4 | M9: 7 | N9: =IF(J9=0,"",(K9*Допущения!$B$9+L9*Допущения!$C$9)/J9) -> 0.15 | O9: =IF(J9=0,"",(K9*Допущения!$B$10+L9*Допущения!$C$10)/J9) -> 0.23571429 | P9: =IF(J9=0,"",(K9*Допущения!$B$11+L9*Допущения!$C$11)/J9) -> 0.33571429
A10: 9 | B10: Маркетолог | C10: Маркетолог по продвижению и развитию продукта | D10: Уфа | E10: 80000 | G10: на руки | H10: 91954 | I10: https://hh.ru/vacancy/138534904 | J10: 6 | K10: 2 | L10: 2 | M10: 2 | N10: =IF(J10=0,"",(K10*Допущения!$B$9+L10*Допущения!$C$9)/J10) -> 0.21666667 | O10: =IF(J10=0,"",(K10*Допущения!$B$10+L10*Допущения!$C$10)/J10) -> 0.33333333 | P10: =IF(J10=0,"",(K10*Допущения!$B$11+L10*Допущения!$C$11)/J10) -> 0.46666667
A11: 10 | B11: Маркетолог | C11: Маркетолог | D11: Южно-Сахалинск | E11: 100000 | G11: на руки | H11: 114943 | I11: https://hh.ru/vacancy/138534223 | J11: 16 | K11: 5 | L11: 0 | M11: 11 | N11: =IF(J11=0,"",(K11*Допущения!$B$9+L11*Допущения!$C$9)/J11) -> 0.15625 | O11: =IF(J11=0,"",(K11*Допущения!$B$10+L11*Допущения!$C$10)/J11) -> 0.21875 | P11: =IF(J11=0,"",(K11*Допущения!$B$11+L11*Допущения!$C$11)/J11) -> 0.28125
A12: 11 | B12: Маркетолог | C12: Маркетолог | D12: Санкт-Петербург | E12: 60000 | G12: до вычета налога | H12: 60000 | I12: https://hh.ru/vacancy/137772692 | J12: 14 | K12: 7 | L12: 4 | M12: 3 | N12: =IF(J12=0,"",(K12*Допущения!$B$9+L12*Допущения!$C$9)/J12) -> 0.29285714 | O12: =IF(J12=0,"",(K12*Допущения!$B$10+L12*Допущения!$C$10)/J12) -> 0.43571429 | P12: =IF(J12=0,"",(K12*Допущения!$B$11+L12*Допущения!$C$11)/J12) -> 0.59285714
A13: 12 | B13: Маркетолог | C13: Маркетолог | D13: Санкт-Петербург | E13: 80000 | G13: на руки | H13: 91954 | I13: https://hh.ru/vacancy/138533247 | J13: 12 | K13: 6 | L13: 3 | M13: 3 | N13: =IF(J13=0,"",(K13*Допущения!$B$9+L13*Допущения!$C$9)/J13) -> 0.2875 | O13: =IF(J13=0,"",(K13*Допущения!$B$10+L13*Допущения!$C$10)/J13) -> 0.425 | P13: =IF(J13=0,"",(K13*Допущения!$B$11+L13*Допущения!$C$11)/J13) -> 0.575
A14: 13 | B14: Маркетолог | C14: Маркетолог сети кофеен | D14: Москва | E14: 150000 | F14: 180000 | G14: на руки | H14: 189655 | I14: https://hh.ru/vacancy/137983821 | J14: 15 | K14: 4 | L14: 4 | M14: 7 | N14: =IF(J14=0,"",(K14*Допущения!$B$9+L14*Допущения!$C$9)/J14) -> 0.17333333 | O14: =IF(J14=0,"",(K14*Допущения!$B$10+L14*Допущения!$C$10)/J14) -> 0.26666667 | P14: =IF(J14=0,"",(K14*Допущения!$B$11+L14*Допущения!$C$11)/J14) -> 0.37333333
A15: 14 | B15: Маркетолог | C15: Digital-маркетолог / Интернет-маркетолог | D15: Казань | E15: 90000 | F15: 90000 | G15: на руки | H15: 103448 | I15: https://hh.ru/vacancy/138188732 | J15: 7 | K15: 4 | L15: 0 | M15: 3 | N15: =IF(J15=0,"",(K15*Допущения!$B$9+L15*Допущения!$C$9)/J15) -> 0.28571429 | O15: =IF(J15=0,"",(K15*Допущения!$B$10+L15*Допущения!$C$10)/J15) -> 0.4 | P15: =IF(J15=0,"",(K15*Допущения!$B$11+L15*Допущения!$C$11)/J15) -> 0.51428571
A16: 15 | B16: Маркетолог | C16: Продуктовый маркетолог | D16: Москва | E16: 150000 | G16: на руки | H16: 172414 | I16: https://hh.ru/vacancy/133014931 | J16: 7 | K16: 3 | L16: 2 | M16: 2 | N16: =IF(J16=0,"",(K16*Допущения!$B$9+L16*Допущения!$C$9)/J16) -> 0.25714286 | O16: =IF(J16=0,"",(K16*Допущения!$B$10+L16*Допущения!$C$10)/J16) -> 0.38571429 | P16: =IF(J16=0,"",(K16*Допущения!$B$11+L16*Допущения!$C$11)/J16) -> 0.52857143
A17: 16 | B17: Маркетолог | C17: Бренд-маркетолог (beauty сфера) | D17: Москва | E17: 180000 | F17: 240000 | G17: на руки | H17: 241379 | I17: https://hh.ru/vacancy/138531833 | J17: 21 | K17: 7 | L17: 9 | M17: 5 | N17: =IF(J17=0,"",(K17*Допущения!$B$9+L17*Допущения!$C$9)/J17) -> 0.23095238 | O17: =IF(J17=0,"",(K17*Допущения!$B$10+L17*Допущения!$C$10)/J17) -> 0.36190476 | P17: =IF(J17=0,"",(K17*Допущения!$B$11+L17*Допущения!$C$11)/J17) -> 0.51428571
A18: 17 | B18: Маркетолог | C18: Контент-маркетолог / Senior SMM | D18: Санкт-Петербург | G18: не указан | I18: https://hh.ru/vacancy/138531774 | J18: 7 | K18: 4 | L18: 3 | M18: 0 | N18: =IF(J18=0,"",(K18*Допущения!$B$9+L18*Допущения!$C$9)/J18) -> 0.35 | O18: =IF(J18=0,"",(K18*Допущения!$B$10+L18*Допущения!$C$10)/J18) -> 0.52857143 | P18: =IF(J18=0,"",(K18*Допущения!$B$11+L18*Допущения!$C$11)/J18) -> 0.72857143
A19: 18 | B19: Маркетолог | C19: Музыкальный менеджер-маркетолог | D19: Москва | E19: 50000 | F19: 70000 | G19: до вычета налога | H19: 60000 | I19: https://hh.ru/vacancy/138531745 | J19: 12 | K19: 6 | L19: 2 | M19: 4 | N19: =IF(J19=0,"",(K19*Допущения!$B$9+L19*Допущения!$C$9)/J19) -> 0.275 | O19: =IF(J19=0,"",(K19*Допущения!$B$10+L19*Допущения!$C$10)/J19) -> 0.4 | P19: =IF(J19=0,"",(K19*Допущения!$B$11+L19*Допущения!$C$11)/J19) -> 0.53333333
A20: 19 | B20: Маркетолог | C20: Маркетолог-аналитик (аутсорсинговые услуги) | D20: Москва | E20: 120000 | G20: на руки | H20: 137931 | I20: https://hh.ru/vacancy/138531663 | J20: 7 | K20: 2 | L20: 3 | M20: 2 | N20: =IF(J20=0,"",(K20*Допущения!$B$9+L20*Допущения!$C$9)/J20) -> 0.20714286 | O20: =IF(J20=0,"",(K20*Допущения!$B$10+L20*Допущения!$C$10)/J20) -> 0.32857143 | P20: =IF(J20=0,"",(K20*Допущения!$B$11+L20*Допущения!$C$11)/J20) -> 0.47142857
A21: 20 | B21: Маркетолог | C21: SMM-маркетолог | D21: Московский (Москва) | G21: не указан | I21: https://hh.ru/vacancy/138531613 | J21: 7 | K21: 5 | L21: 1 | M21: 1 | N21: =IF(J21=0,"",(K21*Допущения!$B$9+L21*Допущения!$C$9)/J21) -> 0.37857143 | O21: =IF(J21=0,"",(K21*Допущения!$B$10+L21*Допущения!$C$10)/J21) -> 0.54285714 | P21: =IF(J21=0,"",(K21*Допущения!$B$11+L21*Допущения!$C$11)/J21) -> 0.71428571
A22: 21 | B22: Маркетолог | C22: Маркетолог (HR-агентство) | D22: Нижний Новгород | G22: не указан | I22: https://hh.ru/vacancy/138321562 | J22: 6 | K22: 2 | L22: 3 | M22: 1 | N22: =IF(J22=0,"",(K22*Допущения!$B$9+L22*Допущения!$C$9)/J22) -> 0.24166667 | O22: =IF(J22=0,"",(K22*Допущения!$B$10+L22*Допущения!$C$10)/J22) -> 0.38333333 | P22: =IF(J22=0,"",(K22*Допущения!$B$11+L22*Допущения!$C$11)/J22) -> 0.55
A23: 22 | B23: Маркетолог | C23: Маркетолог в образовательный проект | D23: Москва | E23: 100000 | G23: на руки | H23: 114943 | I23: https://hh.ru/vacancy/138531565 | J23: 9 | K23: 2 | L23: 5 | M23: 2 | N23: =IF(J23=0,"",(K23*Допущения!$B$9+L23*Допущения!$C$9)/J23) -> 0.19444444 | O23: =IF(J23=0,"",(K23*Допущения!$B$10+L23*Допущения!$C$10)/J23) -> 0.32222222 | P23: =IF(J23=0,"",(K23*Допущения!$B$11+L23*Допущения!$C$11)/J23) -> 0.47777778
A24: 23 | B24: Маркетолог | C24: Маркетолог / бизнес-ассистент по привлечению клиентов и кадров | D24: Омск | E24: 80000 | F24: 100000 | G24: на руки | H24: 103448 | I24: https://hh.ru/vacancy/137768055 | J24: 5 | K24: 3 | L24: 0 | M24: 2 | N24: =IF(J24=0,"",(K24*Допущения!$B$9+L24*Допущения!$C$9)/J24) -> 0.3 | O24: =IF(J24=0,"",(K24*Допущения!$B$10+L24*Допущения!$C$10)/J24) -> 0.42 | P24: =IF(J24=0,"",(K24*Допущения!$B$11+L24*Допущения!$C$11)/J24) -> 0.54
A25: 24 | B25: Маркетолог | C25: Помощник/ассистент маркетолога | D25: Сочи | E25: 60000 | F25: 70000 | G25: на руки | H25: 74713 | I25: https://hh.ru/vacancy/138320408 | J25: 9 | K25: 1 | L25: 3 | M25: 5 | N25: =IF(J25=0,"",(K25*Допущения!$B$9+L25*Допущения!$C$9)/J25) -> 0.10555556 | O25: =IF(J25=0,"",(K25*Допущения!$B$10+L25*Допущения!$C$10)/J25) -> 0.17777778 | P25: =IF(J25=0,"",(K25*Допущения!$B$11+L25*Допущения!$C$11)/J25) -> 0.26666667
A26: 25 | B26: Маркетолог | C26: Менеджер маркетинговых проектов/Маркетолог | D26: Мытищи (Московская область) | E26: 120000 | G26: на руки | H26: 137931 | I26: https://hh.ru/vacancy/138528624 | J26: 18 | K26: 6 | L26: 6 | M26: 6 | N26: =IF(J26=0,"",(K26*Допущения!$B$9+L26*Допущения!$C$9)/J26) -> 0.21666667 | O26: =IF(J26=0,"",(K26*Допущения!$B$10+L26*Допущения!$C$10)/J26) -> 0.33333333 | P26: =IF(J26=0,"",(K26*Допущения!$B$11+L26*Допущения!$C$11)/J26) -> 0.46666667
A27: 26 | B27: Маркетолог | C27: Менеджер маркетинговых проектов/Маркетолог | D27: Москва | E27: 120000 | G27: на руки | H27: 137931 | I27: https://hh.ru/vacancy/138527455 | J27: 18 | K27: 6 | L27: 6 | M27: 6 | N27: =IF(J27=0,"",(K27*Допущения!$B$9+L27*Допущения!$C$9)/J27) -> 0.21666667 | O27: =IF(J27=0,"",(K27*Допущения!$B$10+L27*Допущения!$C$10)/J27) -> 0.33333333 | P27: =IF(J27=0,"",(K27*Допущения!$B$11+L27*Допущения!$C$11)/J27) -> 0.46666667
A28: 27 | B28: Маркетолог | C28: Диджитал маркетолог | D28: Москва | F28: 200000 | G28: на руки | H28: 229885 | I28: https://hh.ru/vacancy/137539593 | J28: 14 | K28: 9 | L28: 4 | M28: 1 | N28: =IF(J28=0,"",(K28*Допущения!$B$9+L28*Допущения!$C$9)/J28) -> 0.36428571 | O28: =IF(J28=0,"",(K28*Допущения!$B$10+L28*Допущения!$C$10)/J28) -> 0.53571429 | P28: =IF(J28=0,"",(K28*Допущения!$B$11+L28*Допущения!$C$11)/J28) -> 0.72142857
A29: 28 | B29: Маркетолог | C29: Маркетолог (B2B) | D29: Москва | G29: не указан | I29: https://hh.ru/vacancy/137628809 | J29: 7 | K29: 3 | L29: 0 | M29: 4 | N29: =IF(J29=0,"",(K29*Допущения!$B$9+L29*Допущения!$C$9)/J29) -> 0.21428571 | O29: =IF(J29=0,"",(K29*Допущения!$B$10+L29*Допущения!$C$10)/J29) -> 0.3 | P29: =IF(J29=0,"",(K29*Допущения!$B$11+L29*Допущения!$C$11)/J29) -> 0.38571429
A30: 29 | B30: Маркетолог | C30: Продуктовый маркетолог (торговое оборудование, B2B) | D30: Щелково (Московская область) | E30: 100000 | F30: 150000 | G30: на руки | H30: 143678 | I30: https://hh.ru/vacancy/138318069 | J30: 11 | K30: 1 | L30: 2 | M30: 8 | N30: =IF(J30=0,"",(K30*Допущения!$B$9+L30*Допущения!$C$9)/J30) -> 0.072727273 | O30: =IF(J30=0,"",(K30*Допущения!$B$10+L30*Допущения!$C$10)/J30) -> 0.11818182 | P30: =IF(J30=0,"",(K30*Допущения!$B$11+L30*Допущения!$C$11)/J30) -> 0.17272727
A31: 30 | B31: Маркетолог | C31: Интернет-маркетолог / UA Specialist | D31: Москва | G31: не указан | I31: https://hh.ru/vacancy/138397220 | J31: 6 | K31: 3 | L31: 2 | M31: 1 | N31: =IF(J31=0,"",(K31*Допущения!$B$9+L31*Допущения!$C$9)/J31) -> 0.3 | O31: =IF(J31=0,"",(K31*Допущения!$B$10+L31*Допущения!$C$10)/J31) -> 0.45 | P31: =IF(J31=0,"",(K31*Допущения!$B$11+L31*Допущения!$C$11)/J31) -> 0.61666667
A32: 31 | B32: Маркетолог | C32: Продуктовый маркетолог | D32: Казань | E32: 150000 | G32: на руки | H32: 172414 | I32: https://hh.ru/vacancy/137538614 | J32: 6 | K32: 2 | L32: 1 | M32: 3 | N32: =IF(J32=0,"",(K32*Допущения!$B$9+L32*Допущения!$C$9)/J32) -> 0.19166667 | O32: =IF(J32=0,"",(K32*Допущения!$B$10+L32*Допущения!$C$10)/J32) -> 0.28333333 | P32: =IF(J32=0,"",(K32*Допущения!$B$11+L32*Допущения!$C$11)/J32) -> 0.38333333
A33: 32 | B33: Маркетолог | C33: Маркетолог | D33: Тамбов | E33: 50000 | G33: до вычета налога | H33: 50000 | I33: https://hh.ru/vacancy/138529562 | J33: 13 | K33: 6 | L33: 3 | M33: 4 | N33: =IF(J33=0,"",(K33*Допущения!$B$9+L33*Допущения!$C$9)/J33) -> 0.26538462 | O33: =IF(J33=0,"",(K33*Допущения!$B$10+L33*Допущения!$C$10)/J33) -> 0.39230769 | P33: =IF(J33=0,"",(K33*Допущения!$B$11+L33*Допущения!$C$11)/J33) -> 0.53076923
A34: 33 | B34: Маркетолог | C34: Продуктовый контент-маркетолог | D34: Москва | G34: не указан | I34: https://hh.ru/vacancy/134781921 | J34: 6 | K34: 3 | L34: 1 | M34: 2 | N34: =IF(J34=0,"",(K34*Допущения!$B$9+L34*Допущения!$C$9)/J34) -> 0.275 | O34: =IF(J34=0,"",(K34*Допущения!$B$10+L34*Допущения!$C$10)/J34) -> 0.4 | P34: =IF(J34=0,"",(K34*Допущения!$B$11+L34*Допущения!$C$11)/J34) -> 0.53333333
A35: 34 | B35: Маркетолог | C35: Маркетолог | D35: Омск | E35: 50000 | F35: 70000 | G35: на руки | H35: 68966 | I35: https://hh.ru/vacancy/138315456 | J35: 7 | K35: 2 | L35: 2 | M35: 3 | N35: =IF(J35=0,"",(K35*Допущения!$B$9+L35*Допущения!$C$9)/J35) -> 0.18571429 | O35: =IF(J35=0,"",(K35*Допущения!$B$10+L35*Допущения!$C$10)/J35) -> 0.28571429 | P35: =IF(J35=0,"",(K35*Допущения!$B$11+L35*Допущения!$C$11)/J35) -> 0.4
A36: 35 | B36: Маркетолог | C36: Маркетолог маркетплейсов | D36: Москва | E36: 150000 | G36: на руки | H36: 172414 | I36: https://hh.ru/vacancy/138185829 | J36: 4 | K36: 2 | L36: 1 | M36: 1 | N36: =IF(J36=0,"",(K36*Допущения!$B$9+L36*Допущения!$C$9)/J36) -> 0.2875 | O36: =IF(J36=0,"",(K36*Допущения!$B$10+L36*Допущения!$C$10)/J36) -> 0.425 | P36: =IF(J36=0,"",(K36*Допущения!$B$11+L36*Допущения!$C$11)/J36) -> 0.575
A37: 36 | B37: Маркетолог | C37: Младший продуктовый маркетолог / Junior Product Marketing Manager | D37: Санкт-Петербург | G37: не указан | I37: https://hh.ru/vacancy/137658700 | J37: 8 | K37: 4 | L37: 3 | M37: 1 | N37: =IF(J37=0,"",(K37*Допущения!$B$9+L37*Допущения!$C$9)/J37) -> 0.30625 | O37: =IF(J37=0,"",(K37*Допущения!$B$10+L37*Допущения!$C$10)/J37) -> 0.4625 | P37: =IF(J37=0,"",(K37*Допущения!$B$11+L37*Допущения!$C$11)/J37) -> 0.6375
A38: 37 | B38: Маркетолог | C38: Маркетолог операционный / Маркетолог общих функций | D38: Москва | E38: 130000 | G38: на руки | H38: 149425 | I38: https://hh.ru/vacancy/138314906 | J38: 51 | K38: 19 | L38: 9 | M38: 23 | N38: =IF(J38=0,"",(K38*Допущения!$B$9+L38*Допущения!$C$9)/J38) -> 0.2127451 | O38: =IF(J38=0,"",(K38*Допущения!$B$10+L38*Допущения!$C$10)/J38) -> 0.31372549 | P38: =IF(J38=0,"",(K38*Допущения!$B$11+L38*Допущения!$C$11)/J38) -> 0.42352941
A39: 38 | B39: Маркетолог | C39: CRM маркетолог | D39: Москва | G39: не указан | I39: https://hh.ru/vacancy/138314771 | J39: 8 | K39: 4 | L39: 4 | M39: 0 | N39: =IF(J39=0,"",(K39*Допущения!$B$9+L39*Допущения!$C$9)/J39) -> 0.325 | O39: =IF(J39=0,"",(K39*Допущения!$B$10+L39*Допущения!$C$10)/J39) -> 0.5 | P39: =IF(J39=0,"",(K39*Допущения!$B$11+L39*Допущения!$C$11)/J39) -> 0.7
A40: 39 | B40: Маркетолог | C40: B2B-маркетолог (лидогенерация и контент) | D40: Рязань | G40: не указан | I40: https://hh.ru/vacancy/138185344 | J40: 13 | K40: 10 | L40: 1 | M40: 2 | N40: =IF(J40=0,"",(K40*Допущения!$B$9+L40*Допущения!$C$9)/J40) -> 0.39615385 | O40: =IF(J40=0,"",(K40*Допущения!$B$10+L40*Допущения!$C$10)/J40) -> 0.56153846 | P40: =IF(J40=0,"",(K40*Допущения!$B$11+L40*Допущения!$C$11)/J40) -> 0.73076923
...

Sheet Допущения
A1: Допущения и правила расчёта
A2: Жёлтые ячейки можно менять: вся сводка пересчитается сама.
A3: Рабочая неделя, часов | B3: 40 | C3: стандартная 40-часовая неделя (ТК РФ, ст. 91)
A4: Цена ВайбАгента, ₽ в месяц (от) | B4: 14990 | C4: публичная страница vibemarketolog.ru/app, проверено 16.10.2026
A5: Недель в месяце | B5: 4.33 | C5: 52 недели / 12 месяцев
A6: Ставка НДФЛ для пересчёта «на руки» в «до вычета налога» | B6: 0.13 | C6: оклад «на руки» делится на (1 - ставка); для окладов до 200 тыс. ₽ в месяц ставка 13%
A8: Сценарий | B8: Доля времени, которую снимает агент на пункте «целиком» | C8: Доля времени на пункте «частично» | D8: Как читать
A9: осторожно | B9: 0.5 | C9: 0.15 | D9: Осторожно: даже готовую работу человек проверяет и согласует, это съедает половину времени
A10: вероятно | B10: 0.7 | C10: 0.3 | D10: Вероятно: типовой режим, человек проверяет результат выборочно
A11: максимум | B11: 0.9 | C11: 0.5 | D11: Максимум: агент подключён ко всем нужным программам, проверка минимальная
A13: Метод
A14: 1. Источник: открытая выдача hh.ru на 16.10.2026, вакансии за последние 7 дней по России, поиск по названию должности. Берём не больше 50 вакансий на роль, в каждой не менее 3 пунктов в разделе обязанностей.
A15: 2. Каждый пункт обязанностей относим к категории по ключевым словам (лист «Пункты (разметка)») и к уровню: «целиком», «частично», «не делает».
A16: 3. Уровень определяется публичными возможностями ВайбАгента на странице vibemarketolog.ru/app (отчёты, документы, почта, реклама, таблицы, напоминания и др.). Звонки, переговоры, встречи, офис и руководство людьми агент не берёт.
A17: 4. Для каждой вакансии: доля = (пунктов «целиком» × коэффициент1 + пунктов «частично» × коэффициент2) / всех пунктов. Роль = среднее по вакансиям. Часы в неделю = неделя × доля. Все пункты считаем равными по времени.
A18: 5. Пункт, который не удалось распознать, считаем «не делает»: оценка осторожная.
A19: 6. Стоимость снятых часов = медианный оклад по вакансиям с окладом × доля («вероятно»). Оклад «на руки» пересчитан в «до вычета налога»; если указана вилка, берём середину.
A20: Границы: это модель по описаниям вакансий, а не замер времени. Описания неполные, а у людей часть работы не записана в вакансии. Коэффициенты - допущения, их надо проверить на неделе реальных задач. Освободившиеся часы дают экономию, только если их передать другой работе или не нанимать лишнего человека.
A22: Правила отнесения пунктов
A23: Категория | B23: Уровень | C23: Что на странице /app | D23: Признаки (корни слов)
A24: Календарь, график, организация встреч и совещаний | B24: целиком | C24: Личный помощник: почта, календарь, напоминания | D24: календар, расписани руковод, директор, встреч, рабоч, график* руковод, ведени графика, организаци, планировани, назначени, согласовани, координаци, подготовк встреч, совещани, переговор, собрани, планёр, планер, видеоконференц, zoom, конфе
A25: Переговоры, звонки, встречи и работа с людьми вживую | B25: не делает | C25: Агент работает на компьютере: звонки и встречи за человека не проводит | D25: проведени встреч, совещани, переговор, презентац, собеседован, консультац, ведени переговор, холодн звонк, продаж, обзвон, звонк, телефон звонк, линии, приём* звонк, клиент, посетител, прием* звонк, общени с клиент, покупател, заказчик, пар
A26: Мероприятия, выставки, съёмки, офлайн-активности | B26: не делает | C26: Физическое присутствие агенту недоступно | D26: мероприят, выставк, конференци, ивент, event, офлайн, оффлайн, наружн реклам, типографи, полиграф, съёмк, съемк, промо-акци, стенд, форум, семинар, вебинар, мерч, мерчандайз, сувенир
A27: Офис и быт: канцелярия, хозяйство, гости, курьеры, ресепшн | B27: не делает | C27: Физическое присутствие агенту недоступно | D27: канцеляр, хозяйствен, хозтовар, хоз., обеспечени офис, работы офис, жизнедеятельност, бесперебойн, заказ воды, кофе, канцтовар, питани, обед, еды, цвет, подарк, гостей, и, ями, я, посетител, курьер, ресепшн, reception, ресепшен, уборк, поря
A28: Сверки и контроль задолженности (акты сверки, дебиторка) | B28: целиком | C28: Финансы и счета: контроль долгов клиентов | D28: сверк, дебитор, кредитор, задолженност, долги, ов, ами, просрочк, расч[её]ты с покупател, поставщик, контрагент, заказчик, подотч, взаимозач, контроль* оплат, поступлен
A29: Зарплата, кадры, отпуска, больничные, табель | B29: частично | C29: Финансист и бухгалтер-помощник (расчёт готовит, проверяет человек) | D29: зарплат, заработн, оплат труда, начислени зарплат, отпуск, больнич, табел, кадров, премир, удержани, алимент, личных дел, трудов книжк, договор, зп
A30: Налоги и отчётность (НДС, УСН, НДФЛ, баланс, сдача в ФНС и фонды) | B30: частично | C30: Финансист: налоговый календарь, подготовка; сдачу и подпись делает человек | D30: налог, ндс, усн, енс, ндфл, рсв, баланс, декларац, бухгалтерск, финансов, статистическ, регламентированн, налогов отч[её]тност, отч[её]тност, фнс, пфр, сфр, фсс, росстат, страховы взнос, взнос, камеральн, ифнс, эцп, сдач отч[её]т
A31: Первичные документы, счета, акты, накладные, УПД | B31: целиком | C31: Финансист и бухгалтер-помощник: первичка и счета через 1С; Счета и акты в 1С | D31: первичн, счёт-фактур, счет-фактур, счета-фактур, упд, накладн, акты, актов, ами, выставлен счет, счёт, счета, ов на оплат, клиент, покупател, счетов, документооборот, эдо, диадок, сбис, кассов документ, операц, авансов отч[её]т, товарн отч[
A32: Склад, ТМЦ, основные средства, себестоимость | B32: частично | C32: Финансист: учёт по данным; физическую инвентаризацию выполняет человек | D32: склад, тмц, основн средств, инвентаризац, материальн цен, запас, учёт, учет, номенклатур, остатк, себестоимост, калькуляц, списани, оприходован, амортизац
A33: Бухгалтерский учёт и проводки в 1С | B33: частично | C33: Финансы и счета: счета и акты в 1С (проводки проверяет человек) | D33: 1с, 1c, бухгалтерск и налогов уч[её]т, ведени бухгалтерск, учёта, учета, бухучёт, бухучет, уч[её]т* операц, хозяйственн, расч[её]т, затрат, доход, расход, движен, проводк, бухуч[её]т, участк уч[её]та, закрыти месяц, период, план счетов, уч[
A34: Управленческий учёт, бюджет, финансовый анализ | B34: частично | C34: Финансист: расчёты и сводки; решение принимает человек | D34: управленческ, бюджетирован, финансов анализ, модел, план, результат, контрол, отч[её]т, уч[её]т, план-факт, p&l, опиу, cashflow, рентабельност, маржинальност
... A55: Взаимодействие и согласование с подразделениями, руководством, клиентами | B55: не делает | C55: Живое общение и согласование остаются за человеком | D55: взаимодействи, согласовани, координаци, коммуникац, общени, работа с отдел, подразделени, руковод, коллег, сотрудник, связь, поддержани отношен, связ, участи в, сопровожден, помощь, поддержк, содействи, консультирован, информирован, организ
A56: Прочее и не распознано | B56: не делает | C56: Не засчитываем: осторожная оценка

Sheet Пункты (разметка)
A1: Роль | B1: Вакансия | C1: Пункт обязанности (как в вакансии) | D1: Категория | E1: Что делает агент
A2: Маркетолог | B2: 138406767 | C2: Разработка и реализация плана маркетинговых мероприятий для продвижения продукции | D2: Мероприятия, выставки, съёмки, офлайн-активности | E2: не делает
A3: Маркетолог | B3: 138406767 | C3: Анализ конкурентной среды: мониторинг цен, ассортимента, рекламной активности конкурентов в строительном секторе | D3: Реклама: настройка и ведение кампаний (Директ, VK, таргет, контекст) | E3: целиком
A4: Маркетолог | B4: 138406767 | C4: Выявление и анализ потребностей целевой аудитории (строительные компании, частные застройщики, дизайнеры) | D4: Анализ рынка и конкурентов, мониторинг цен | E4: целиком
A5: Маркетолог | B5: 138406767 | C5: Ведение и развитие групп в социальных сетях,написание и публикация контента | D5: Контент: тексты, посты, контент-план, соцсети, рассылки, репутация | E5: целиком
A6: Маркетолог | B6: 138406767 | C6: Администрирование и наполнение сайта компании (каталог продукции, статьи, новости) | D6: Контент: тексты, посты, контент-план, соцсети, рассылки, репутация | E6: целиком
A7: Маркетолог | B7: 138406767 | C7: [текст скрыт: есть название, цифры или контакт] | D7: Сайт и SEO: наполнение, правки, посадочные страницы, карточки | E7: частично
A8: Маркетолог | B8: 138406767 | C8: Заказ и контроль размещения наружной рекламы, медиапланирование | D8: Мероприятия, выставки, съёмки, офлайн-активности | E8: не делает
A9: Маркетолог | B9: 138406767 | C9: Подготовка коммерческих предложений и презентационных материалов для клиентов | D9: Мероприятия, выставки, съёмки, офлайн-активности | E9: не делает
A10: Маркетолог | B10: 138406767 | C10: Сбор и анализ обратной связи от клиентов, работа с отзывами | D10: Контент: тексты, посты, контент-план, соцсети, рассылки, репутация | E10: целиком
A11: Маркетолог | B11: 138406767 | C11: [текст скрыт: есть название, цифры или контакт] | D11: Мероприятия, выставки, съёмки, офлайн-активности | E11: не делает
A12: Маркетолог | B12: 138406767 | C12: Оформление первичной документации с подрядчиками (акты, договоры, счета) | D12: Первичные документы, счета, акты, накладные, УПД | E12: целиком
A13: Маркетолог | B13: 138406767 | C13: [текст скрыт: есть название, цифры или контакт] | D13: Реклама: настройка и ведение кампаний (Директ, VK, таргет, контекст) | E13: целиком
... A1407: Ассистент руководителя | B1407: 138358941 | C1407: Координация работы водителя и домработницы | D1407: Офис и быт: канцелярия, хозяйство, гости, курьеры, ресепшн | E1407: не делает
